BEGIN:VCALENDAR
PRODID:NingEventWidget-v1
VERSION:2.0
METHOD:PUBLISH
BEGIN:VTIMEZONE
TZID:America/Denver
X-LIC-LOCATION:America/Denver
BEGIN:DAYLIGHT
TZOFFSETFROM:-0700
TZOFFSETTO:-0600
TZNAME:MDT
DTSTART:19700308T020000
RRULE:FREQ=YEARLY;BYMONTH=3;BYDAY=2SU
END:DAYLIGHT
BEGIN:STANDARD
TZOFFSETFROM:-0600
TZOFFSETTO:-0700
TZNAME:MST
DTSTART:19701101T020000
RRULE:FREQ=YEARLY;BYMONTH=11;BYDAY=1SU
END:STANDARD
END:VTIMEZONE
BEGIN:VEVENT
UID:2021996:Event:273923
DTSTAMP:20260419T094601Z
SUMMARY:Summer Solstice Hike + Yoga
DESCRIPTION:Summer Solstice Hike + YogaWith Kira Thursday, June 20 —
  6:00pm-7:30pmat The Peoples’ Crossing\nDescription: Join Kira for a
  Hike + Yoga Class at the Peoples’ Crossing on the longest day of th
 e year! We will meet at the main trail head and hike for about 15 minu
 tes before setting up our mats for a 45 minute class and then hike bac
 k down to the parking lot.\nThis hike is easy to moderate and is acces
 sible to those coming from sea level who are not used to the altitude.
  It contains some incline but the trail is fairly level with few rocky
  areas to navigate. You will need to hike with your mat. Please bring 
 your own mat and water.\n\nPrice: $27 Drop-inIncluded with Membership\
 n\nFor more information visit https://www.mytowncolorado.com/events/su
 mmer-solstice-hike-yoga
DTSTART;TZID=America/Denver:20240620T180000
DTEND;TZID=America/Denver:20240620T193000
CATEGORIES:hike, "+", yoga
LOCATION:The Peoples' Crossing Trailhead
WEBSITE:https://clients.mindbodyonline.com/classic/ws?studioid=182708&
 amp;stype=-7&amp;sView=day&amp;sLoc=0&amp;sTrn=100000281&amp;date=06/2
 0/24
URL:https://clients.mindbodyonline.com/classic/ws?studioid=182708&amp;
 stype=-7&amp;sView=day&amp;sLoc=0&amp;sTrn=100000281&amp;date=06/20/24
CONTACT:
ORGANIZER;CN="Yoga Pearl":https://www.mytowncolorado.com/profile/YogaP
 earl
ATTACH;FMTTYPE="image/jpeg":https://storage.ning.com/topology/rest/1.0
 /file/get/12633693088?profile=original
ATTENDEE;ROLE=REQ-PARTICIPANT;PARTSTAT=ACCEPTED;RSVP=TRUE;CN="Yoga Pea
 rl":https://www.mytowncolorado.com/profile/YogaPearl
END:VEVENT
END:VCALENDAR
