BEGIN:VCALENDAR
PRODID:NingEventWidget-v1
VERSION:2.0
METHOD:PUBLISH
BEGIN:VTIMEZONE
TZID:America/Denver
X-LIC-LOCATION:America/Denver
BEGIN:DAYLIGHT
TZOFFSETFROM:-0700
TZOFFSETTO:-0600
TZNAME:MDT
DTSTART:19700308T020000
RRULE:FREQ=YEARLY;BYMONTH=3;BYDAY=2SU
END:DAYLIGHT
BEGIN:STANDARD
TZOFFSETFROM:-0600
TZOFFSETTO:-0700
TZNAME:MST
DTSTART:19701101T020000
RRULE:FREQ=YEARLY;BYMONTH=11;BYDAY=1SU
END:STANDARD
END:VTIMEZONE
BEGIN:VEVENT
UID:2021996:Event:273305
DTSTAMP:20260423T033436Z
SUMMARY:Tales for Tails
DESCRIPTION:Join us on May 11th from 4-7 pm at the Boulder JCC for Tal
 es for Tails, a fun evening of drinks, food, silent and live auctions 
 to benefit Project AnimalAid.\nProject AnimalAid provides life saving 
 veterinary equipment and supplies to animal welfare organizations in o
 ver 40 countries around the world. Help us help them by joining us on 
 May 11th!\nhttps://www.projectanimalaid.org/events\n\n\nFor more infor
 mation visit https://www.mytowncolorado.com/events/tales-for-tails
DTSTART;TZID=America/Denver:20240511T160000
DTEND;TZID=America/Denver:20240511T190000
CATEGORIES:fundraiser
LOCATION:Boulder JCC
WEBSITE:https://www.projectanimalaid.org/events
URL:https://www.projectanimalaid.org/events
CONTACT:3038081759
ORGANIZER;CN="Maya Key":https://www.mytowncolorado.com/profile/MayaKey
 879
ATTACH;FMTTYPE="image/jpeg":https://storage.ning.com/topology/rest/1.0
 /file/get/12234254669?profile=original
ATTENDEE;ROLE=REQ-PARTICIPANT;PARTSTAT=ACCEPTED;RSVP=TRUE;CN="Maya Key
 ":https://www.mytowncolorado.com/profile/MayaKey879
END:VEVENT
END:VCALENDAR
