BEGIN:VCALENDAR
PRODID:NingEventWidget-v1
VERSION:2.0
METHOD:PUBLISH
BEGIN:VTIMEZONE
TZID:America/Denver
X-LIC-LOCATION:America/Denver
BEGIN:DAYLIGHT
TZOFFSETFROM:-0700
TZOFFSETTO:-0600
TZNAME:MDT
DTSTART:19700308T020000
RRULE:FREQ=YEARLY;BYMONTH=3;BYDAY=2SU
END:DAYLIGHT
BEGIN:STANDARD
TZOFFSETFROM:-0600
TZOFFSETTO:-0700
TZNAME:MST
DTSTART:19701101T020000
RRULE:FREQ=YEARLY;BYMONTH=11;BYDAY=1SU
END:STANDARD
END:VTIMEZONE
BEGIN:VEVENT
UID:2021996:Event:273746
DTSTAMP:20260420T233438Z
SUMMARY:The Yoga of Deep Rest: A Yoga Nidra Workshop
DESCRIPTION:The Yoga of Deep Rest: A Yoga Nidra WorkshopWith Kira S.Fr
 iday, May 31 — 7:00pm-8:30pm\nDescription: Experience the deep menta
 l rest and intuitive clarity of Yoga Nidra. This transformative practi
 ce was developed from the practice of Divine Sleep® yoga nidra by Jen
 nifer Reis, one of the leading teachers at Kripalu Center for Yoga and
  Health in Massachusetts. Kira has studied directly with Jennifer Reis
  to bring this method of healing to a wider population.\nWe'll start w
 ith gentle, rhythmic movement to prepare the body for stillness, follo
 wed by simple breathwork to prepare the nervous system for rest. We'll
  then spend 45 minutes reclining comfortably to experience the yoga ni
 dra journey. You'll be guided through layers of consciousness peaceful
 ly before being gently returned to your fully awake state- hopefully f
 eeling lighter and more at one with yourself and the world around you.
 \n\nPrice: $20 for Members$35 for Non-Members\nPre-registration is sug
 gested\n\nFor more information visit https://www.mytowncolorado.com/ev
 ents/the-yoga-of-deep-rest-a-yoga-nidra-workshop
DTSTART;TZID=America/Denver:20240531T190000
DTEND;TZID=America/Denver:20240531T203000
CATEGORIES:workshop
LOCATION:Yoga Pearl
WEBSITE:https://clients.mindbodyonline.com/classic/ws?studioid=182708&
 amp;stype=-7&amp;sView=day&amp;sLoc=0&amp;sTrn=100000281&amp;date=05/3
 1/24
URL:https://clients.mindbodyonline.com/classic/ws?studioid=182708&amp;
 stype=-7&amp;sView=day&amp;sLoc=0&amp;sTrn=100000281&amp;date=05/31/24
CONTACT:
ORGANIZER;CN="Yoga Pearl":https://www.mytowncolorado.com/profile/YogaP
 earl
ATTACH;FMTTYPE="image/jpeg":https://storage.ning.com/topology/rest/1.0
 /file/get/12494124494?profile=original
ATTENDEE;ROLE=REQ-PARTICIPANT;PARTSTAT=ACCEPTED;RSVP=TRUE;CN="Yoga Pea
 rl":https://www.mytowncolorado.com/profile/YogaPearl
END:VEVENT
END:VCALENDAR
