BEGIN:VCALENDAR
PRODID:NingEventWidget-v1
VERSION:2.0
METHOD:PUBLISH
BEGIN:VTIMEZONE
TZID:America/Denver
X-LIC-LOCATION:America/Denver
BEGIN:DAYLIGHT
TZOFFSETFROM:-0700
TZOFFSETTO:-0600
TZNAME:MDT
DTSTART:19700308T020000
RRULE:FREQ=YEARLY;BYMONTH=3;BYDAY=2SU
END:DAYLIGHT
BEGIN:STANDARD
TZOFFSETFROM:-0600
TZOFFSETTO:-0700
TZNAME:MST
DTSTART:19701101T020000
RRULE:FREQ=YEARLY;BYMONTH=11;BYDAY=1SU
END:STANDARD
END:VTIMEZONE
BEGIN:VEVENT
UID:2021996:Event:162477
DTSTAMP:20260420T010755Z
SUMMARY:Truth Be Told ALL-STAR GRAND SLAM
DESCRIPTION:BOULDER’S TOP STORYTELLERS FACE OFF IN GRAND SLAM at ETO
 WN HALL\n“Truth Be Told” story slam kicks off its third year with 
 all-star storytelling, musical talent.\n\nTruth Be Told, Boulder’s s
 tory slam, will kick off their third season with an All-Star Grand Sla
 m, featuring the winning storytellers from 2014, on Sunday, February 2
 2, 6:30 pm at eTown Hall, 1535 Spruce Street in Boulder.\n\nTruth Be T
 old is a storytelling competition that is loosely patterned after the 
 popular “Moth” story slams. Audience members who wish to tell a 5-
 minute, true life story on the evening’s pre-determined theme are in
 vited to put their names in a hat and ten lucky storytellers come to t
 he stage to tell their story. Teams of audience judges score the stori
 es, and there is a winner for each slam. The Grand Slam event at eTown
  is the culmination of our second year of hosting story slams. Truth B
 e Told sold out all shows in 2014.\n\n“Our audiences reminded us rep
 eatedly that we had outgrown our venue in the “gathering place” of
  Shine Restaurant,” co-host Johanna Walker says. “So we’re givin
 g eTown a try. It’s a good problem to have.”\n\nThe storytelling l
 ineup for the February 22nd slam is: Lindsay Bourgoine, Michael Mathie
 u, Glenna Murdock, Morley McBride,Ted Weaver, Eryc Eyl (a.k.a. DJ Savi
 orBreath), writer Ellen Nordberg, professional speaker Traci Brown, an
 d award-winning actor Jim Walker.\n\nTruth Be Told hosts Nina Rolle an
 d Johanna Walker are Boulder-based performing artists who host in thei
 r own, unique style. From spoken word, to comedy improvisation, one-li
 ne stories, to musical medleys, Rolle and Walker work with the evening
 ’s theme across disciplines and provide the backbone of this event. 
 As hosts, their chemistry is compelling.\n\n“If you haven’t been t
 o the Truth Be Told story slam, I highly recommend it! It’s the best
  entertainment I’ve seen in Boulder in a long time. Raw art and huma
 n condition rolled up into incredible laughter and art from Johanna Wa
 lker and Nina Rolle,” says Myka McLaughlin, a Truth Be Told regular.
 \n\nRolle enlists local musicians to play medleys on the pre-determine
 d theme, while Walker comically interrupts these songs with one- or tw
 o-line stories from her own life.\n“We encourage clever engagement w
 ith the theme,” Rolle says. “So we take on the challenge ourselves
 , by working with the theme across a variety of artistic disciplines.
 \nRolle is a voiceover actor, performance artist and musician known 
 locally for her original, award-winning show, ZEN CABARET: a contempla
 tive burlesque. Walker, a speaker and coach, is the owner of Big, Bold
 , True & You public speaking coaching.\n\nTRUTH BE TOLD: Boulder’s B
 i-Monthly Story Slam will be held on Sunday February 22 at eTown Hall,
  1535 13th St, in Boulder. Doors open at 5:30pm; with light refreshmen
 ts. Show starts 6:30pm. Tickets, $22 & $45 can be purchased in advance
  at\nhttps://www.eventbrite.com/e/truth-be-told-grand-slam-tickets-152
 02644519\n\nmore info at: www.storyslamboulder.com\n\nFor more informa
 tion visit https://www.mytowncolorado.com/events/truth-be-told-all-sta
 r-grand-slam
DTSTART;TZID=America/Denver:20150222T183000
DTEND;TZID=America/Denver:20150222T203000
CATEGORIES:story, slam
LOCATION:eTown Hall
WEBSITE:http://www.etown.org/etown-hall/
URL:http://www.etown.org/etown-hall/
CONTACT:323-449-2983
ORGANIZER:Nina Rolle
ATTACH;FMTTYPE="image/jpeg":http://storage.ning.com/topology/rest/1.0/
 file/get/1051721478?profile=original
ATTENDEE;ROLE=REQ-PARTICIPANT;PARTSTAT=ACCEPTED;RSVP=TRUE;CN="Sarah Os
 wald":https://www.mytowncolorado.com/profile/SarahOswald
END:VEVENT
END:VCALENDAR
