BEGIN:VCALENDAR
PRODID:NingEventWidget-v1
VERSION:2.0
METHOD:PUBLISH
BEGIN:VTIMEZONE
TZID:America/Denver
X-LIC-LOCATION:America/Denver
BEGIN:DAYLIGHT
TZOFFSETFROM:-0700
TZOFFSETTO:-0600
TZNAME:MDT
DTSTART:19700308T020000
RRULE:FREQ=YEARLY;BYMONTH=3;BYDAY=2SU
END:DAYLIGHT
BEGIN:STANDARD
TZOFFSETFROM:-0600
TZOFFSETTO:-0700
TZNAME:MST
DTSTART:19701101T020000
RRULE:FREQ=YEARLY;BYMONTH=11;BYDAY=1SU
END:STANDARD
END:VTIMEZONE
BEGIN:VEVENT
UID:2021996:Event:160751
DTSTAMP:20260422T045009Z
SUMMARY:Turkey Shoot Free Throw Contest
DESCRIPTION:Here's your chance to win a Thanksgiving turkey! This even
 t will consist of different age groups for both male and female divisi
 ons. Turkeys will be awarded to the top shooter in each category. For 
 more information, call the Recreation Center at 303-665-0469. Late com
 ers may not be allowed to participate.\n\nFor more information visit h
 ttps://www.mytowncolorado.com/events/turkey-shoot-free-throw-contest
DTSTART;TZID=America/Denver:20141115T090000
DTEND;TZID=America/Denver:20141115T100000
CATEGORIES:free, throw, contest
LOCATION:Bob L. Burger Recreation Center
WEBSITE:http://www.cityoflafayette.com/recreation
URL:http://www.cityoflafayette.com/recreation
CONTACT:303-665-0469
ORGANIZER;CN="Lafayette Recreation Dept":https://www.mytowncolorado.co
 m/profile/DebbieWilmot
ATTACH;FMTTYPE="image/jpeg":
ATTENDEE;ROLE=REQ-PARTICIPANT;PARTSTAT=ACCEPTED;RSVP=TRUE;CN="Lafayett
 e Recreation Dept":https://www.mytowncolorado.com/profile/DebbieWilmot
END:VEVENT
END:VCALENDAR
