BEGIN:VCALENDAR
PRODID:NingEventWidget-v1
VERSION:2.0
METHOD:PUBLISH
BEGIN:VTIMEZONE
TZID:America/Denver
X-LIC-LOCATION:America/Denver
BEGIN:DAYLIGHT
TZOFFSETFROM:-0700
TZOFFSETTO:-0600
TZNAME:MDT
DTSTART:19700308T020000
RRULE:FREQ=YEARLY;BYMONTH=3;BYDAY=2SU
END:DAYLIGHT
BEGIN:STANDARD
TZOFFSETFROM:-0600
TZOFFSETTO:-0700
TZNAME:MST
DTSTART:19701101T020000
RRULE:FREQ=YEARLY;BYMONTH=11;BYDAY=1SU
END:STANDARD
END:VTIMEZONE
BEGIN:VEVENT
UID:2021996:Event:159485
DTSTAMP:20260420T090823Z
SUMMARY:unveiling of the Mosaic “Jacque Cousteau meets Dr. Seuss”
DESCRIPTION:The NoBo Art District is proud to announce an unveiling of
  the Mosaic “Jacque Cousteau meets Dr. Seuss”\nAnnette Coleman cre
 ated this work of art to honor all community members that suffered fro
 m the flood in 2013. She enlisted the public in the actual creation of
  this work at a public event where children and adults could smash the
  tile with hammers and place the pieces in position. This event is a L
 aunchPad program by the NoBo Art District called ‘Habitat for Artist
 s’, showing the public by engagement how little space is needed for 
 creation and art dialog. All materials were donated and or upcycled.\n
  \nWith gratitude and support from:\nThe Martha Kate Thomas Fund for 
 Artists,\nA fund of the Community Foundation Serving Boulder County Bo
 ulder County Arts Alliance\nJeff Gaines, Fire And Earth Ceramics\nHabi
 tat For Artists\nA LaunchPad project of the NoBo Art District\nLucky
 s Market\nParrish Construction & FigLeif\n \nAnnette Coleman, Artist
  dedicates this work of art  to all community members that suffered fr
 om  the flood in 2013. May we all heal stronger together.\nAnnetteCole
 manArtist.com\n\n\nFor more information visit https://www.mytowncolora
 do.com/events/unveiling-of-the-mosaic-jacque-cousteau-meets-dr-seuss
DTSTART;TZID=America/Denver:20141004T110000
DTEND;TZID=America/Denver:20141004T233000
CATEGORIES:celebration
LOCATION:Lucky's Market Courtyard
WEBSITE:http://www. NoBoArtDistrict.com
URL:http://www. NoBoArtDistrict.com
CONTACT:303-941-8887
ORGANIZER;CN="Annette Coleman":https://www.mytowncolorado.com/profile/
 AnnetteColeman
ATTACH;FMTTYPE="image/jpeg":http://storage.ning.com/topology/rest/1.0/
 file/get/1051717815?profile=original
END:VEVENT
END:VCALENDAR
