BEGIN:VCALENDAR
PRODID:NingEventWidget-v1
VERSION:2.0
METHOD:PUBLISH
BEGIN:VTIMEZONE
TZID:America/Denver
X-LIC-LOCATION:America/Denver
BEGIN:DAYLIGHT
TZOFFSETFROM:-0700
TZOFFSETTO:-0600
TZNAME:MDT
DTSTART:19700308T020000
RRULE:FREQ=YEARLY;BYMONTH=3;BYDAY=2SU
END:DAYLIGHT
BEGIN:STANDARD
TZOFFSETFROM:-0600
TZOFFSETTO:-0700
TZNAME:MST
DTSTART:19701101T020000
RRULE:FREQ=YEARLY;BYMONTH=11;BYDAY=1SU
END:STANDARD
END:VTIMEZONE
BEGIN:VEVENT
UID:2021996:Event:177177
DTSTAMP:20260420T214750Z
SUMMARY:Wednesday Walking Photo Safari
DESCRIPTION:Date:10/19/2016\n\nBoulder\nDetails: Join Pinque on Wedne
 sdays for a walking safari of Boulder landmarks and beautiful surround
 ing landscapes. 4-Hour Safari Price includes professional photograp
 hy instruction.\n$75/person through November 1, 2016 \nDisclaimers: 
 Safaris are limited to a maximum of five (5) photographers. Rates are
  based on group pricing; if this safari does not have full registra
 tion, a small-party supplement may be charged. Subject to rescheduling
  due to inclement weather.\n\nFor more information visit https://www.
 mytowncolorado.com/events/wednesday-walking-photo-safari
DTSTART;TZID=America/Denver:20161011T080000
DTEND;TZID=America/Denver:20161011T130000
CATEGORIES:walking, tour, photography
LOCATION:Boulder
WEBSITE:http://coloradophotosafaris.com
URL:http://coloradophotosafaris.com
CONTACT:3039414683
ORGANIZER;CN="Pinque Clark":https://www.mytowncolorado.com/profile/Pin
 queClark
ATTACH;FMTTYPE="image/jpeg":http://storage.ning.com/topology/rest/1.0/
 file/get/1051747759?profile=original
ATTENDEE;ROLE=REQ-PARTICIPANT;PARTSTAT=ACCEPTED;RSVP=TRUE;CN="Pinque C
 lark":https://www.mytowncolorado.com/profile/PinqueClark
END:VEVENT
END:VCALENDAR
