BEGIN:VCALENDAR
PRODID:NingEventWidget-v1
VERSION:2.0
METHOD:PUBLISH
BEGIN:VTIMEZONE
TZID:America/Denver
X-LIC-LOCATION:America/Denver
BEGIN:DAYLIGHT
TZOFFSETFROM:-0700
TZOFFSETTO:-0600
TZNAME:MDT
DTSTART:19700308T020000
RRULE:FREQ=YEARLY;BYMONTH=3;BYDAY=2SU
END:DAYLIGHT
BEGIN:STANDARD
TZOFFSETFROM:-0600
TZOFFSETTO:-0700
TZNAME:MST
DTSTART:19701101T020000
RRULE:FREQ=YEARLY;BYMONTH=11;BYDAY=1SU
END:STANDARD
END:VTIMEZONE
BEGIN:VEVENT
UID:2021996:Event:177452
DTSTAMP:20260421T011310Z
SUMMARY:WOW!'s 20th Birthday Party
DESCRIPTION:WOW! is celebrating 20 years in the Boulder County communi
 ty!  For two decades WOW! has been inspiring local children and famil
 ies to learn through play with our hands-on and educational exhibits, 
 programs, classes, and events. You’re invited to help us celebrate o
 ur 20th birthday with a full day of fun party activities and surprises
 !  Activities are scheduled every hour throughout the day and include
  a special performance by Boulder Bach Festival, cupcakes and refreshm
 ents, face painting, balloon animals, crafts and more!  All party act
 ivities are included with Museum admission.\n\nFor more information vi
 sit https://www.mytowncolorado.com/events/wow-s-20th-birthday-party
DTSTART;TZID=America/Denver:20161112T100000
DTEND;TZID=America/Denver:20161112T180000
CATEGORIES:special, event
LOCATION:WOW! Children's Museum
WEBSITE:http://www.wowchildrensmuseum.org
URL:http://www.wowchildrensmuseum.org
CONTACT:3036042424
ORGANIZER;CN="WOW! Children's Museum":https://www.mytowncolorado.com/p
 rofile/KatieMacDonald
ATTACH;FMTTYPE="image/jpeg":http://storage.ning.com/topology/rest/1.0/
 file/get/1051745035?profile=original
ATTENDEE;ROLE=REQ-PARTICIPANT;PARTSTAT=ACCEPTED;RSVP=TRUE;CN="WOW! Chi
 ldren's Museum":https://www.mytowncolorado.com/profile/KatieMacDonald
END:VEVENT
END:VCALENDAR
