BEGIN:VCALENDAR
PRODID:NingEventWidget-v1
VERSION:2.0
METHOD:PUBLISH
BEGIN:VTIMEZONE
TZID:America/Denver
X-LIC-LOCATION:America/Denver
BEGIN:DAYLIGHT
TZOFFSETFROM:-0700
TZOFFSETTO:-0600
TZNAME:MDT
DTSTART:19700308T020000
RRULE:FREQ=YEARLY;BYMONTH=3;BYDAY=2SU
END:DAYLIGHT
BEGIN:STANDARD
TZOFFSETFROM:-0600
TZOFFSETTO:-0700
TZNAME:MST
DTSTART:19701101T020000
RRULE:FREQ=YEARLY;BYMONTH=11;BYDAY=1SU
END:STANDARD
END:VTIMEZONE
BEGIN:VEVENT
UID:2021996:Event:180098
DTSTAMP:20260419T182542Z
SUMMARY:WOW!'s Family Dance Party
DESCRIPTION:Let's party! Join us for an after-hours Museum event for t
 he whole family! Put on your dancing shoes for an evening of fun activ
 ities, including a kid-friendly DJ, hands-on science crafts, hula-hoop
 ing on the patio, glow sticks, prizes, snacks, and more!\nTickets: $11
  per child; $6 per child for WOW! Members, $5 per adult.  Purchase ti
 ckets online: https://68348.blackbaudhosting.com/68348/WOW-Family-Danc
 e-Party\n\nFor more information visit https://www.mytowncolorado.com/e
 vents/wow-s-family-dance-party
DTSTART;TZID=America/Denver:20170512T180000
DTEND;TZID=America/Denver:20170512T200000
CATEGORIES:dance, party
LOCATION:WOW! Children's Museum
WEBSITE:http://www.wowchildrensmuseum.org
URL:http://www.wowchildrensmuseum.org
CONTACT:3036042424
ORGANIZER;CN="WOW! Children's Museum":https://www.mytowncolorado.com/p
 rofile/KatieMacDonald
ATTACH;FMTTYPE="image/jpeg":http://storage.ning.com/topology/rest/1.0/
 file/get/1051743983?profile=original
ATTENDEE;ROLE=REQ-PARTICIPANT;PARTSTAT=ACCEPTED;RSVP=TRUE;CN="WOW! Chi
 ldren's Museum":https://www.mytowncolorado.com/profile/KatieMacDonald
END:VEVENT
END:VCALENDAR
